BEGIN:VCALENDAR
PRODID:-//PUBBLE//agenda//NL
VERSION:2.0
METHOD:PUBLISH
BEGIN:VEVENT
DTSTART:20240426T080000Z
DTEND:20240705T112600Z
DTSTAMP:20260420T143813Z
UID:8de4c533-ca2e-4d91-a42c-e716ac675449
CREATED:20260420T143813Z
NAME:Muziek op Schoot Lentecursus oegstgeestercourant.nl
X-WR-CALNAME:Muziek op Schoot Lentecursus
X-ALT-DESC;FMTTYPE=text/html:<a href='/agenda/2024/4/26/muziek-op-schoot-lentecursus-93103'>/agenda/2024/4/26/muziek-op-schoot-lentecursus-93103</a> || <p>Muziek op Schoot Lentecursussen&nbsp;</p><p>10x Muzieklessen voor baby’s vanaf (3) 4 maanden, dreumesen &amp; peuters samen met hun ouder of grootouder.Cursussen&nbsp;</p><p>Leslocatie: Sunterra, Clusiushof 7, Oegstgeest4) Vrijdag 26 april t/m 12 juli 2024</p><p>Leslocatie: Wijkcentrum Kaju Putih, Dennenlaan 3, Alphen a/d Rijn1) Zaterdag 20 april t/m 1 juli 20242) Dinsdag 23 april t/m 9 juli 20243) Woensdag 24 april t/m 10 juli 2024</p><p>Muziekeducatie die de totale ontwikkeling van het jonge kind stimuleert en de ouder-kind band versterkt.&nbsp;</p><p>In de Muziek op Schoot lessen spelen we met muziek, instrumentjes en spelmaterialen, bewegen en dansen we op muziek en zingen we heel veel nieuwe en bekende traditionele cultuur liedjes die in de thuissituatie ingezet kunnen worden.</p><p>Kom samen gezellig muziek maken bij Muziekwijs!</p><p>Kosten: €135</p><p>Info: www.muziekwijs.nl (Muziek op Schoot 0-4 jaar)</p><p>Muziekwijs biedt muziekactiviteiten voor baby’s t/m volwassenen, (team)workshops en optredens.</p>
DESCRIPTION:<a href='/agenda/2024/4/26/muziek-op-schoot-lentecursus-93103'>/agenda/2024/4/26/muziek-op-schoot-lentecursus-93103</a> || <p>Muziek op Schoot Lentecursussen&nbsp;</p><p>10x Muzieklessen voor baby’s vanaf (3) 4 maanden, dreumesen &amp; peuters samen met hun ouder of grootouder.Cursussen&nbsp;</p><p>Leslocatie: Sunterra, Clusiushof 7, Oegstgeest4) Vrijdag 26 april t/m 12 juli 2024</p><p>Leslocatie: Wijkcentrum Kaju Putih, Dennenlaan 3, Alphen a/d Rijn1) Zaterdag 20 april t/m 1 juli 20242) Dinsdag 23 april t/m 9 juli 20243) Woensdag 24 april t/m 10 juli 2024</p><p>Muziekeducatie die de totale ontwikkeling van het jonge kind stimuleert en de ouder-kind band versterkt.&nbsp;</p><p>In de Muziek op Schoot lessen spelen we met muziek, instrumentjes en spelmaterialen, bewegen en dansen we op muziek en zingen we heel veel nieuwe en bekende traditionele cultuur liedjes die in de thuissituatie ingezet kunnen worden.</p><p>Kom samen gezellig muziek maken bij Muziekwijs!</p><p>Kosten: €135</p><p>Info: www.muziekwijs.nl (Muziek op Schoot 0-4 jaar)</p><p>Muziekwijs biedt muziekactiviteiten voor baby’s t/m volwassenen, (team)workshops en optredens.</p>
LAST-MODIFIED:20260420T143813Z
LOCATION: Sunterra | Clusiushof 7 Oegstgeest
SEQUENCE:0
STATUS:CONFIRMED
SUMMARY:Muziek op Schoot Lentecursus
TRANSP:OPAQUE
END:VEVENT
END:VCALENDAR
